BEGIN:VCALENDAR
VERSION:2.0
PRODID:-//Lytham Life &amp; Style - ECPv6.15.19//NONSGML v1.0//EN
CALSCALE:GREGORIAN
METHOD:PUBLISH
X-WR-CALNAME:Lytham Life &amp; Style
X-ORIGINAL-URL:https://lythamlifeandstyle.co.uk
X-WR-CALDESC:Events for Lytham Life &amp; Style
REFRESH-INTERVAL;VALUE=DURATION:PT1H
X-Robots-Tag:noindex
X-PUBLISHED-TTL:PT1H
BEGIN:VTIMEZONE
TZID:Europe/London
BEGIN:DAYLIGHT
TZOFFSETFROM:+0000
TZOFFSETTO:+0100
TZNAME:BST
DTSTART:20250330T010000
END:DAYLIGHT
BEGIN:STANDARD
TZOFFSETFROM:+0100
TZOFFSETTO:+0000
TZNAME:GMT
DTSTART:20251026T010000
END:STANDARD
BEGIN:DAYLIGHT
TZOFFSETFROM:+0000
TZOFFSETTO:+0100
TZNAME:BST
DTSTART:20260329T010000
END:DAYLIGHT
BEGIN:STANDARD
TZOFFSETFROM:+0100
TZOFFSETTO:+0000
TZNAME:GMT
DTSTART:20261025T010000
END:STANDARD
BEGIN:DAYLIGHT
TZOFFSETFROM:+0000
TZOFFSETTO:+0100
TZNAME:BST
DTSTART:20270328T010000
END:DAYLIGHT
BEGIN:STANDARD
TZOFFSETFROM:+0100
TZOFFSETTO:+0000
TZNAME:GMT
DTSTART:20271031T010000
END:STANDARD
END:VTIMEZONE
BEGIN:VEVENT
DTSTART;TZID=Europe/London:20260503T140000
DTEND;TZID=Europe/London:20260503T160000
DTSTAMP:20260423T180039
CREATED:20260423T093542Z
LAST-MODIFIED:20260423T093542Z
UID:10009540-1777816800-1777824000@lythamlifeandstyle.co.uk
SUMMARY:Brass in the Grass 2026
DESCRIPTION:Whats On in lytham ST Annes Brass in the Grass Summer 2026
URL:https://lythamlifeandstyle.co.uk/event/brass-in-the-grass-2026/2026-05-03/
LOCATION:Ashton Gardens\, Ashton Gardens\, Clifton Drive North\, St Annes on Sea\, Lancashire\, FY8 2NY
CATEGORIES:Community,Entertainment,free,Music Festivals, Concerts & Shows,Outdoors,St Annes on Sea
ATTACH;FMTTYPE=image/jpeg:https://lythamlifeandstyle.co.uk/wp-content/uploads/2026/04/Brass-in-the-Grass-2026.jpg
END:VEVENT
BEGIN:VEVENT
DTSTART;TZID=Europe/London:20260607T140000
DTEND;TZID=Europe/London:20260607T160000
DTSTAMP:20260423T180039
CREATED:20260423T093542Z
LAST-MODIFIED:20260423T093542Z
UID:10009541-1780840800-1780848000@lythamlifeandstyle.co.uk
SUMMARY:Brass in the Grass 2026
DESCRIPTION:Whats On in lytham ST Annes Brass in the Grass Summer 2026
URL:https://lythamlifeandstyle.co.uk/event/brass-in-the-grass-2026/2026-06-07/
LOCATION:Ashton Gardens\, Ashton Gardens\, Clifton Drive North\, St Annes on Sea\, Lancashire\, FY8 2NY
CATEGORIES:Community,Entertainment,free,Music Festivals, Concerts & Shows,Outdoors,St Annes on Sea
ATTACH;FMTTYPE=image/jpeg:https://lythamlifeandstyle.co.uk/wp-content/uploads/2026/04/Brass-in-the-Grass-2026.jpg
END:VEVENT
BEGIN:VEVENT
DTSTART;TZID=Europe/London:20260705T140000
DTEND;TZID=Europe/London:20260705T160000
DTSTAMP:20260423T180039
CREATED:20260423T093542Z
LAST-MODIFIED:20260423T093542Z
UID:10009542-1783260000-1783267200@lythamlifeandstyle.co.uk
SUMMARY:Brass in the Grass 2026
DESCRIPTION:Whats On in lytham ST Annes Brass in the Grass Summer 2026
URL:https://lythamlifeandstyle.co.uk/event/brass-in-the-grass-2026/2026-07-05/
LOCATION:Ashton Gardens\, Ashton Gardens\, Clifton Drive North\, St Annes on Sea\, Lancashire\, FY8 2NY
CATEGORIES:Community,Entertainment,free,Music Festivals, Concerts & Shows,Outdoors,St Annes on Sea
ATTACH;FMTTYPE=image/jpeg:https://lythamlifeandstyle.co.uk/wp-content/uploads/2026/04/Brass-in-the-Grass-2026.jpg
END:VEVENT
BEGIN:VEVENT
DTSTART;TZID=Europe/London:20260802T140000
DTEND;TZID=Europe/London:20260802T160000
DTSTAMP:20260423T180039
CREATED:20260423T093542Z
LAST-MODIFIED:20260423T093542Z
UID:10009543-1785679200-1785686400@lythamlifeandstyle.co.uk
SUMMARY:Brass in the Grass 2026
DESCRIPTION:Whats On in lytham ST Annes Brass in the Grass Summer 2026
URL:https://lythamlifeandstyle.co.uk/event/brass-in-the-grass-2026/2026-08-02/
LOCATION:Ashton Gardens\, Ashton Gardens\, Clifton Drive North\, St Annes on Sea\, Lancashire\, FY8 2NY
CATEGORIES:Community,Entertainment,free,Music Festivals, Concerts & Shows,Outdoors,St Annes on Sea
ATTACH;FMTTYPE=image/jpeg:https://lythamlifeandstyle.co.uk/wp-content/uploads/2026/04/Brass-in-the-Grass-2026.jpg
END:VEVENT
BEGIN:VEVENT
DTSTART;TZID=Europe/London:20260906T140000
DTEND;TZID=Europe/London:20260906T160000
DTSTAMP:20260423T180039
CREATED:20260423T093542Z
LAST-MODIFIED:20260423T093542Z
UID:10009544-1788703200-1788710400@lythamlifeandstyle.co.uk
SUMMARY:Brass in the Grass 2026
DESCRIPTION:Whats On in lytham ST Annes Brass in the Grass Summer 2026
URL:https://lythamlifeandstyle.co.uk/event/brass-in-the-grass-2026/2026-09-06/
LOCATION:Ashton Gardens\, Ashton Gardens\, Clifton Drive North\, St Annes on Sea\, Lancashire\, FY8 2NY
CATEGORIES:Community,Entertainment,free,Music Festivals, Concerts & Shows,Outdoors,St Annes on Sea
ATTACH;FMTTYPE=image/jpeg:https://lythamlifeandstyle.co.uk/wp-content/uploads/2026/04/Brass-in-the-Grass-2026.jpg
END:VEVENT
END:VCALENDAR