BEGIN:VCALENDAR
VERSION:2.0
PRODID:-//Lytham Life &amp; Style - ECPv6.15.19//NONSGML v1.0//EN
CALSCALE:GREGORIAN
METHOD:PUBLISH
X-WR-CALNAME:Lytham Life &amp; Style
X-ORIGINAL-URL:https://lythamlifeandstyle.co.uk
X-WR-CALDESC:Events for Lytham Life &amp; Style
REFRESH-INTERVAL;VALUE=DURATION:PT1H
X-Robots-Tag:noindex
X-PUBLISHED-TTL:PT1H
BEGIN:VTIMEZONE
TZID:Europe/London
BEGIN:DAYLIGHT
TZOFFSETFROM:+0000
TZOFFSETTO:+0100
TZNAME:BST
DTSTART:20250330T010000
END:DAYLIGHT
BEGIN:STANDARD
TZOFFSETFROM:+0100
TZOFFSETTO:+0000
TZNAME:GMT
DTSTART:20251026T010000
END:STANDARD
BEGIN:DAYLIGHT
TZOFFSETFROM:+0000
TZOFFSETTO:+0100
TZNAME:BST
DTSTART:20260329T010000
END:DAYLIGHT
BEGIN:STANDARD
TZOFFSETFROM:+0100
TZOFFSETTO:+0000
TZNAME:GMT
DTSTART:20261025T010000
END:STANDARD
BEGIN:DAYLIGHT
TZOFFSETFROM:+0000
TZOFFSETTO:+0100
TZNAME:BST
DTSTART:20270328T010000
END:DAYLIGHT
BEGIN:STANDARD
TZOFFSETFROM:+0100
TZOFFSETTO:+0000
TZNAME:GMT
DTSTART:20271031T010000
END:STANDARD
END:VTIMEZONE
BEGIN:VEVENT
DTSTART;TZID=Europe/London:20260421T200000
DTEND;TZID=Europe/London:20260421T230000
DTSTAMP:20260424T174938
CREATED:20260310T182620Z
LAST-MODIFIED:20260407T122450Z
UID:10008421-1776801600-1776812400@lythamlifeandstyle.co.uk
SUMMARY:Weekly Musical Allsorts Open Mic
DESCRIPTION:Open Mic night held every Tuesday at The St Anne’s Ex Service Club. EVERYONE is welcome. Any style\, any instrument\, any ability
URL:https://lythamlifeandstyle.co.uk/event/weekly-musical-allsorts-open-mic/2026-04-21/
LOCATION:St Annes Ex ServiceMans Club\, 22 Alexandra Road\,\, St Annes\, c\, FY8 1YE
CATEGORIES:Community,Entertainment,live music,Open Mic,St Annes on Sea
ATTACH;FMTTYPE=image/jpeg:https://lythamlifeandstyle.co.uk/wp-content/uploads/2026/03/Open-Mic-St-Annes-Ex-Service-Club-.jpg
END:VEVENT
BEGIN:VEVENT
DTSTART;TZID=Europe/London:20260419T140000
DTEND;TZID=Europe/London:20260419T220000
DTSTAMP:20260424T174938
CREATED:20251206T144435Z
LAST-MODIFIED:20260418T160642Z
UID:10007614-1776607200-1776636000@lythamlifeandstyle.co.uk
SUMMARY:Live Music/Karaoke & DJ Sets THIS WEEKEND Sunday 19th April 2026
DESCRIPTION:All on poster \nDisclaimer \nI pull event info from across local social media and websites—basically herding cats across the internet. Most of the time it’s accurate. Occasionally\, however\, dates shift\, venues change plans\, or events vanish into the ether. If I make a mistake\, it’s not sabotage—it’s the chaos of live events being… live. So before you do your hair\, book a babysitter\, or pre-celebrate\, please double-check the details directly with the venue or organiser. Trust\, but verify
URL:https://lythamlifeandstyle.co.uk/event/live-music-karaoke-dj-sets-this-weekend-sunday-21st-december-2025/
CATEGORIES:Entertainment,live music,Lytham,St Annes on Sea
ATTACH;FMTTYPE=image/jpeg:https://lythamlifeandstyle.co.uk/wp-content/uploads/2025/12/Sunday-19th-April-LIVE-1080-x-1080-px.jpg
END:VEVENT
BEGIN:VEVENT
DTSTART;TZID=Europe/London:20260419T000000
DTEND;TZID=Europe/London:20260419T000000
DTSTAMP:20260424T174938
CREATED:20260415T224056Z
LAST-MODIFIED:20260415T224455Z
UID:10009471-1776556800-1776556800@lythamlifeandstyle.co.uk
SUMMARY:What's On at the Theatre this week
DESCRIPTION:Within the beautiful surroundings of Lowther Gardens in Lytham St Annes\, Lowther Pavilion Theatre has proudly served the Fylde Coast and surrounding communities as a vibrant cultural hub since opening in 1921. For over a century\, it has been a place where people come together to enjoy\, participate in\, and celebrate the arts. \nOver the years\, the Pavilion has welcomed national and international stars from across a wide range of genres\, alongside an ever-evolving programme of performances and events. Today\, audiences can enjoy everything from serious plays and comedy to musicals\, amateur dramatics\, theatre school productions\, and showcase performances. The programme also includes touring companies and artists as well as screenings and streamed productions of popular National Theatre titles\, bringing world-class performances to local audiences. \nEach year\, the venue hosts more than 480 shows and events\, attracting over 95\,000 visitors. From large-scale productions to intimate performances\, there is something for everyone to experience and enjoy. \nA New Chapter\nIn April 2025\, an exciting new chapter began with the opening of our second venue: The Windmill Performance & Education Centre. This £3 million development has expanded our ability to support both performance and participation in the arts. \nThe Windmill is home to The Lions Community Space and The Chapman Studio — a flexible second auditorium with capacity for 162 seated or 350 standing. This new space allows us to broaden our programme and provide greater opportunities for community-led projects\, emerging talent\, and creative learning. \nMore than just an extension\, The Windmill reflects our commitment to nurturing creativity\, supporting local voices\, and ensuring the arts remain accessible to all. \nMore Than a Theatre\nBeyond the stage\, Lowther Pavilion is also at the heart of a lively calendar of events and festivals. Throughout the year\, we host regular festival weekends\, including the popular Ice Cream Festival\, as well as themed seasonal events such as Easter\, Halloween and Christmas celebrations around the Gardens. \nWe are also proud to present an International Film Festival\, further enriching our programme and offering audiences even more ways to engage with the arts.
URL:https://lythamlifeandstyle.co.uk/event/whats-on-at-the-theatre-this-week/2026-04-19/
CATEGORIES:Charity & Fundraisers,Children's Events,Comedy,Community,Educational,Entertainment,Food & Drink,live music,Lytham,Music Festivals, Concerts & Shows,stage show,talks,Theatre
ATTACH;FMTTYPE=image/png:https://lythamlifeandstyle.co.uk/wp-content/uploads/2026/04/Whats-on-at-the-Theatre-1.png
END:VEVENT
BEGIN:VEVENT
DTSTART;TZID=Europe/London:20260418T180000
DTEND;TZID=Europe/London:20260418T233000
DTSTAMP:20260424T174938
CREATED:20251205T174554Z
LAST-MODIFIED:20260418T160052Z
UID:10007613-1776535200-1776555000@lythamlifeandstyle.co.uk
SUMMARY:Live Music/Karaoke & DJ Sets THIS WEEKEND Saturday 18th April  2026
DESCRIPTION:All on Poster \nDisclaimer \nI pull event info from across local social media and websites—basically herding cats across the internet. Most of the time it’s accurate. Occasionally\, however\, dates shift\, venues change plans\, or events vanish into the ether. If I make a mistake\, it’s not sabotage—it’s the chaos of live events being… live. So before you do your hair\, book a babysitter\, or pre-celebrate\, please double-check the details directly with the venue or organiser. Trust\, but verify
URL:https://lythamlifeandstyle.co.uk/event/live-music-karaoke-dj-sets-this-weekend-19th-21st-december/
CATEGORIES:Entertainment,live music,Lytham,St Annes on Sea
ATTACH;FMTTYPE=image/jpeg:https://lythamlifeandstyle.co.uk/wp-content/uploads/2025/12/Sat-18th-April-LIVE-1080-x-1080-px-1.jpg
END:VEVENT
BEGIN:VEVENT
DTSTART;TZID=Europe/London:20260414T200000
DTEND;TZID=Europe/London:20260414T230000
DTSTAMP:20260424T174938
CREATED:20260310T182620Z
LAST-MODIFIED:20260407T122450Z
UID:10008420-1776196800-1776207600@lythamlifeandstyle.co.uk
SUMMARY:Weekly Musical Allsorts Open Mic
DESCRIPTION:Open Mic night held every Tuesday at The St Anne’s Ex Service Club. EVERYONE is welcome. Any style\, any instrument\, any ability
URL:https://lythamlifeandstyle.co.uk/event/weekly-musical-allsorts-open-mic/2026-04-14/
LOCATION:St Annes Ex ServiceMans Club\, 22 Alexandra Road\,\, St Annes\, c\, FY8 1YE
CATEGORIES:Community,Entertainment,live music,Open Mic,St Annes on Sea
ATTACH;FMTTYPE=image/jpeg:https://lythamlifeandstyle.co.uk/wp-content/uploads/2026/03/Open-Mic-St-Annes-Ex-Service-Club-.jpg
END:VEVENT
BEGIN:VEVENT
DTSTART;VALUE=DATE:20260411
DTEND;VALUE=DATE:20260412
DTSTAMP:20260424T174938
CREATED:20260410T155905Z
LAST-MODIFIED:20260410T155908Z
UID:10008389-1775865600-1775951999@lythamlifeandstyle.co.uk
SUMMARY:Weekly Entertainment Live Music in Lytham St Annes
DESCRIPTION:Weekly live music/dj sets in lytham stannes
URL:https://lythamlifeandstyle.co.uk/event/weekly-entertainment-live-music-in-lytham-st-annes-2-2-2-2-2-2/
CATEGORIES:Ansdell,Entertainment,live music,Lytham,St Annes on Sea
ATTACH;FMTTYPE=image/jpeg:https://lythamlifeandstyle.co.uk/wp-content/uploads/2026/03/live-music-generic-1080-x-1080-px-1.jpg
END:VEVENT
BEGIN:VEVENT
DTSTART;TZID=Europe/London:20260407T200000
DTEND;TZID=Europe/London:20260407T230000
DTSTAMP:20260424T174938
CREATED:20260310T182620Z
LAST-MODIFIED:20260407T122450Z
UID:10008419-1775592000-1775602800@lythamlifeandstyle.co.uk
SUMMARY:Weekly Musical Allsorts Open Mic
DESCRIPTION:Open Mic night held every Tuesday at The St Anne’s Ex Service Club. EVERYONE is welcome. Any style\, any instrument\, any ability
URL:https://lythamlifeandstyle.co.uk/event/weekly-musical-allsorts-open-mic/2026-04-07/
LOCATION:St Annes Ex ServiceMans Club\, 22 Alexandra Road\,\, St Annes\, c\, FY8 1YE
CATEGORIES:Community,Entertainment,live music,Open Mic,St Annes on Sea
ATTACH;FMTTYPE=image/jpeg:https://lythamlifeandstyle.co.uk/wp-content/uploads/2026/03/Open-Mic-St-Annes-Ex-Service-Club-.jpg
END:VEVENT
BEGIN:VEVENT
DTSTART;VALUE=DATE:20260404
DTEND;VALUE=DATE:20260405
DTSTAMP:20260424T174938
CREATED:20260322T104926Z
LAST-MODIFIED:20260407T123224Z
UID:10008388-1775260800-1775347199@lythamlifeandstyle.co.uk
SUMMARY:Weekly Entertainment Live Music in Lytham St Annes
DESCRIPTION:Weekly live music/dj sets in lytham stannes
URL:https://lythamlifeandstyle.co.uk/event/weekly-entertainment-live-music-in-lytham-st-annes-2-2-2-2-2/2026-04-04/
CATEGORIES:Ansdell,Entertainment,live music,Lytham,St Annes on Sea
ATTACH;FMTTYPE=image/jpeg:https://lythamlifeandstyle.co.uk/wp-content/uploads/2026/03/live-music-generic-1080-x-1080-px-1.jpg
END:VEVENT
BEGIN:VEVENT
DTSTART;VALUE=DATE:20260403
DTEND;VALUE=DATE:20260404
DTSTAMP:20260424T174938
CREATED:20260322T104926Z
LAST-MODIFIED:20260407T123224Z
UID:10008695-1775174400-1775260799@lythamlifeandstyle.co.uk
SUMMARY:Weekly Entertainment Live Music in Lytham St Annes
DESCRIPTION:Weekly live music/dj sets in lytham stannes
URL:https://lythamlifeandstyle.co.uk/event/weekly-entertainment-live-music-in-lytham-st-annes-2-2-2-2-2/2026-04-03/
CATEGORIES:Ansdell,Entertainment,live music,Lytham,St Annes on Sea
ATTACH;FMTTYPE=image/jpeg:https://lythamlifeandstyle.co.uk/wp-content/uploads/2026/03/live-music-generic-1080-x-1080-px-1.jpg
END:VEVENT
BEGIN:VEVENT
DTSTART;TZID=Europe/London:20260331T200000
DTEND;TZID=Europe/London:20260331T230000
DTSTAMP:20260424T174938
CREATED:20260310T182620Z
LAST-MODIFIED:20260407T122450Z
UID:10008418-1774987200-1774998000@lythamlifeandstyle.co.uk
SUMMARY:Weekly Musical Allsorts Open Mic
DESCRIPTION:Open Mic night held every Tuesday at The St Anne’s Ex Service Club. EVERYONE is welcome. Any style\, any instrument\, any ability
URL:https://lythamlifeandstyle.co.uk/event/weekly-musical-allsorts-open-mic/2026-03-31/
LOCATION:St Annes Ex ServiceMans Club\, 22 Alexandra Road\,\, St Annes\, c\, FY8 1YE
CATEGORIES:Community,Entertainment,live music,Open Mic,St Annes on Sea
ATTACH;FMTTYPE=image/jpeg:https://lythamlifeandstyle.co.uk/wp-content/uploads/2026/03/Open-Mic-St-Annes-Ex-Service-Club-.jpg
END:VEVENT
BEGIN:VEVENT
DTSTART;TZID=Europe/London:20260324T200000
DTEND;TZID=Europe/London:20260324T230000
DTSTAMP:20260424T174938
CREATED:20260310T182620Z
LAST-MODIFIED:20260407T122450Z
UID:10008417-1774382400-1774393200@lythamlifeandstyle.co.uk
SUMMARY:Weekly Musical Allsorts Open Mic
DESCRIPTION:Open Mic night held every Tuesday at The St Anne’s Ex Service Club. EVERYONE is welcome. Any style\, any instrument\, any ability
URL:https://lythamlifeandstyle.co.uk/event/weekly-musical-allsorts-open-mic/2026-03-24/
LOCATION:St Annes Ex ServiceMans Club\, 22 Alexandra Road\,\, St Annes\, c\, FY8 1YE
CATEGORIES:Community,Entertainment,live music,Open Mic,St Annes on Sea
ATTACH;FMTTYPE=image/jpeg:https://lythamlifeandstyle.co.uk/wp-content/uploads/2026/03/Open-Mic-St-Annes-Ex-Service-Club-.jpg
END:VEVENT
BEGIN:VEVENT
DTSTART;TZID=Europe/London:20260317T200000
DTEND;TZID=Europe/London:20260317T230000
DTSTAMP:20260424T174938
CREATED:20260310T182620Z
LAST-MODIFIED:20260407T122450Z
UID:10008416-1773777600-1773788400@lythamlifeandstyle.co.uk
SUMMARY:Weekly Musical Allsorts Open Mic
DESCRIPTION:Open Mic night held every Tuesday at The St Anne’s Ex Service Club. EVERYONE is welcome. Any style\, any instrument\, any ability
URL:https://lythamlifeandstyle.co.uk/event/weekly-musical-allsorts-open-mic/2026-03-17/
LOCATION:St Annes Ex ServiceMans Club\, 22 Alexandra Road\,\, St Annes\, c\, FY8 1YE
CATEGORIES:Community,Entertainment,live music,Open Mic,St Annes on Sea
ATTACH;FMTTYPE=image/jpeg:https://lythamlifeandstyle.co.uk/wp-content/uploads/2026/03/Open-Mic-St-Annes-Ex-Service-Club-.jpg
END:VEVENT
BEGIN:VEVENT
DTSTART;VALUE=DATE:20260315
DTEND;VALUE=DATE:20260316
DTSTAMP:20260424T174938
CREATED:20260307T172755Z
LAST-MODIFIED:20260307T172756Z
UID:10007656-1773532800-1773619199@lythamlifeandstyle.co.uk
SUMMARY:Weekly Entertainment Live Music in Lytham St Annes
DESCRIPTION:Weekly Entertainment Live Music in Lytham St Annes
URL:https://lythamlifeandstyle.co.uk/event/weekly-entertainment-live-music-in-lytham-st-annes-2-2-2/2026-03-15/
CATEGORIES:Ansdell,Entertainment,live music,Lytham,St Annes on Sea
END:VEVENT
BEGIN:VEVENT
DTSTART;VALUE=DATE:20260314
DTEND;VALUE=DATE:20260315
DTSTAMP:20260424T174938
CREATED:20260307T172755Z
LAST-MODIFIED:20260307T172756Z
UID:10008385-1773446400-1773532799@lythamlifeandstyle.co.uk
SUMMARY:Weekly Entertainment Live Music in Lytham St Annes
DESCRIPTION:Weekly Entertainment Live Music in Lytham St Annes
URL:https://lythamlifeandstyle.co.uk/event/weekly-entertainment-live-music-in-lytham-st-annes-2-2-2/2026-03-14/
CATEGORIES:Ansdell,Entertainment,live music,Lytham,St Annes on Sea
END:VEVENT
BEGIN:VEVENT
DTSTART;VALUE=DATE:20260313
DTEND;VALUE=DATE:20260314
DTSTAMP:20260424T174938
CREATED:20260307T172755Z
LAST-MODIFIED:20260307T172756Z
UID:10007653-1773360000-1773446399@lythamlifeandstyle.co.uk
SUMMARY:Weekly Entertainment Live Music in Lytham St Annes
DESCRIPTION:Weekly Entertainment Live Music in Lytham St Annes
URL:https://lythamlifeandstyle.co.uk/event/weekly-entertainment-live-music-in-lytham-st-annes-2-2-2/2026-03-13/
CATEGORIES:Ansdell,Entertainment,live music,Lytham,St Annes on Sea
END:VEVENT
BEGIN:VEVENT
DTSTART;TZID=Europe/London:20260310T200000
DTEND;TZID=Europe/London:20260310T230000
DTSTAMP:20260424T174938
CREATED:20260310T182620Z
LAST-MODIFIED:20260407T122450Z
UID:10008415-1773172800-1773183600@lythamlifeandstyle.co.uk
SUMMARY:Weekly Musical Allsorts Open Mic
DESCRIPTION:Open Mic night held every Tuesday at The St Anne’s Ex Service Club. EVERYONE is welcome. Any style\, any instrument\, any ability
URL:https://lythamlifeandstyle.co.uk/event/weekly-musical-allsorts-open-mic/2026-03-10/
LOCATION:St Annes Ex ServiceMans Club\, 22 Alexandra Road\,\, St Annes\, c\, FY8 1YE
CATEGORIES:Community,Entertainment,live music,Open Mic,St Annes on Sea
ATTACH;FMTTYPE=image/jpeg:https://lythamlifeandstyle.co.uk/wp-content/uploads/2026/03/Open-Mic-St-Annes-Ex-Service-Club-.jpg
END:VEVENT
END:VCALENDAR