BEGIN:VCALENDAR
VERSION:2.0
PRODID:-//Lytham Life &amp; Style - ECPv6.15.19//NONSGML v1.0//EN
CALSCALE:GREGORIAN
METHOD:PUBLISH
X-WR-CALNAME:Lytham Life &amp; Style
X-ORIGINAL-URL:https://lythamlifeandstyle.co.uk
X-WR-CALDESC:Events for Lytham Life &amp; Style
REFRESH-INTERVAL;VALUE=DURATION:PT1H
X-Robots-Tag:noindex
X-PUBLISHED-TTL:PT1H
BEGIN:VTIMEZONE
TZID:Europe/London
BEGIN:DAYLIGHT
TZOFFSETFROM:+0000
TZOFFSETTO:+0100
TZNAME:BST
DTSTART:20250330T010000
END:DAYLIGHT
BEGIN:STANDARD
TZOFFSETFROM:+0100
TZOFFSETTO:+0000
TZNAME:GMT
DTSTART:20251026T010000
END:STANDARD
BEGIN:DAYLIGHT
TZOFFSETFROM:+0000
TZOFFSETTO:+0100
TZNAME:BST
DTSTART:20260329T010000
END:DAYLIGHT
BEGIN:STANDARD
TZOFFSETFROM:+0100
TZOFFSETTO:+0000
TZNAME:GMT
DTSTART:20261025T010000
END:STANDARD
BEGIN:DAYLIGHT
TZOFFSETFROM:+0000
TZOFFSETTO:+0100
TZNAME:BST
DTSTART:20270328T010000
END:DAYLIGHT
BEGIN:STANDARD
TZOFFSETFROM:+0100
TZOFFSETTO:+0000
TZNAME:GMT
DTSTART:20271031T010000
END:STANDARD
END:VTIMEZONE
BEGIN:VEVENT
DTSTART;TZID=Europe/London:20260223T193000
DTEND;TZID=Europe/London:20260223T223000
DTSTAMP:20260425T173114
CREATED:20251202T184006Z
LAST-MODIFIED:20260417T154411Z
UID:10007796-1771875000-1771885800@lythamlifeandstyle.co.uk
SUMMARY:Quiz Nights in Lytham St Annes
DESCRIPTION:Plenty of pubs means plenty of pub quizzes (this was written in Winter so will be updated when anymore are announced) \nAs with everything\,  details are prone to change\, so suggest you check on the venues Social Media \nMONDAY \nThe Taps Lytham  8pm \nThe Hop Shoppe\, St Annes on Sea 8.30 – Pre book here  https://bit.ly/SpeedQuizBooking \n  \nTUESDAY\nThe Pier Inn\, St Annes on Sea 8pm \nWEDNESDAY\nThe Queens Hotel Lytham 8.30pm \nThe Fairhaven Ansdell 7.30pm \nTHURSDAY\nShip and Royal (Lytham) 8pm \nThe County Hotel Lytham 8.30 \nThe Vic  St Annes on Sea 9pm \nFRIDAY\nThe Waters Edge St Annes on Sea 8pm \nTrevino Lounge Lytham 7pm \n  \n  \n 
URL:https://lythamlifeandstyle.co.uk/event/quiz-nights-in-lytham-st-annes-3-2/2026-02-23/
CATEGORIES:Ansdell,Competitions & Leagues,Lytham,St Annes on Sea
ATTACH;FMTTYPE=image/jpeg:https://lythamlifeandstyle.co.uk/wp-content/uploads/2025/12/new-quiz-night-poster-.jpg
END:VEVENT
BEGIN:VEVENT
DTSTART;VALUE=DATE:20260222
DTEND;VALUE=DATE:20260223
DTSTAMP:20260425T173114
CREATED:20251207T172348Z
LAST-MODIFIED:20251207T172912Z
UID:10007729-1771718400-1771804799@lythamlifeandstyle.co.uk
SUMMARY:Quick Link to where to see Movies
DESCRIPTION:Quick Link to Whats On at the Island Cinema\, the Island\, St Annes On Sea FY8 1LS \n(From their website) \nThe Island Cinema\, located in the picturesque seaside town of Lytham St Annes\, offers a cozy and intimate setting for moviegoers seeking a personal touch. It epitomizes the community cinema experience\, with friendly staff and a homely ambiance that welcomes every visitor like an old friend. The cinema features a selection of the latest releases alongside special screenings and events that cater to all ages and interests. Its commitment to quality and comfort is evident in the plush seating and top-notch visual and audio systems\, ensuring every screening is a pleasure. The Island Cinema is more than just a place to watch movies—it’s a cherished part of the community where memories are made. \nNEW for 2025\, the Chapman Studio \nA New Era of Cinema Returns to Lytham  \nLink to What’s On search page \n(From their website) \nThe Lowther Pavilion Theatre & Gardens is thrilled to announce that its brand-new venue\, The Windmill Performance & Education Centre\, is set to feature a state-of-the-art Digital Cinema Package (DCP) projection system and immersive surround sound . This installation marks the first cinema to open its doors in Lytham since The Palace Cinema closed in the late 1950s. The new DCP technology ensures film lovers can once again enjoy the latest cinema releases in stunning clarity and sound – right in the heart of Lytham.The Windmill Performance & Education Centre\, which is home to the venue’s 164-seat auditorium\, The Chapman Studio\, will launch its state-of-the-art cinema programme including classic films\, arthouse films and live streaming of concerts and National Theatre Performances.
URL:https://lythamlifeandstyle.co.uk/event/quick-link-to-movies/2026-02-22/
CATEGORIES:Art & Culture,Comedy,Community,Enviromental & Nature,Films,Lytham,St Annes on Sea,Theatre
END:VEVENT
BEGIN:VEVENT
DTSTART;TZID=Europe/London:20260219T193000
DTEND;TZID=Europe/London:20260219T230000
DTSTAMP:20260425T173114
CREATED:20260216T163235Z
LAST-MODIFIED:20260216T181042Z
UID:10007889-1771529400-1771542000@lythamlifeandstyle.co.uk
SUMMARY:Weekly Jam Night and the Third Thursday Music Club
DESCRIPTION:🎶  All Musicians Welcome 🎶 \nReady to plug in and play? Join Urban Arts Studio for an open jam night where creativity takes the stage. Bring your instrument\, your voice\, or just your love of live music. Whether you’re a seasoned player or just getting comfortable under the lights\, this is your space to connect\, collaborate\, and make some noise. \nIf you love spontaneous moments.\, spectators welcome—enjoy the energy of live\, unrehearsed music in its rawest form. \nSTOP PRESS\nNew introduction is the Third Thursday Music Club will be hosted by Phil Barrett supported by a band of top session musicians and will be more of a Rock Jam Night. For medical reasons Lol Goodman is unavailable for the next 2 months or so\, and Phil\, the Keyboard player and guitarist in the Lol Goodman Band is to take over the Jam Nights. Pop along and JAM with Phil and the boys. Phil is a much sought after Session musician with an international career that has earned him 3 Platinum and 7 Gold Disc Awards. \nThe first one is 19th February 2026 \n \nDisclaimer \nI pull event info from across local social media and websites—basically herding cats across the internet. Most of the time it’s accurate. Occasionally\, however\, dates shift\, venues change plans\, or events vanish into the ether. If I make a mistake\, it’s not sabotage—it’s the chaos of live events being… live. So before you do your hair\, book a babysitter\, or pre-celebrate\, please double-check the details directly with the venue or organiser. Trust\, but verify
URL:https://lythamlifeandstyle.co.uk/event/weekly-jam-night/2026-02-19/
LOCATION:Urban Arts Studio\, Back St Ann'es Road West\, Lancashire\, FY8 1QR
CATEGORIES:Entertainment,Hobbies,Music Festivals, Concerts & Shows,St Annes on Sea
ATTACH;FMTTYPE=image/jpeg:https://lythamlifeandstyle.co.uk/wp-content/uploads/2026/02/jammin.jpg
END:VEVENT
BEGIN:VEVENT
DTSTART;TZID=Europe/London:20260216T193000
DTEND;TZID=Europe/London:20260216T223000
DTSTAMP:20260425T173114
CREATED:20251202T184006Z
LAST-MODIFIED:20260417T154411Z
UID:10007795-1771270200-1771281000@lythamlifeandstyle.co.uk
SUMMARY:Quiz Nights in Lytham St Annes
DESCRIPTION:Plenty of pubs means plenty of pub quizzes (this was written in Winter so will be updated when anymore are announced) \nAs with everything\,  details are prone to change\, so suggest you check on the venues Social Media \nMONDAY \nThe Taps Lytham  8pm \nThe Hop Shoppe\, St Annes on Sea 8.30 – Pre book here  https://bit.ly/SpeedQuizBooking \n  \nTUESDAY\nThe Pier Inn\, St Annes on Sea 8pm \nWEDNESDAY\nThe Queens Hotel Lytham 8.30pm \nThe Fairhaven Ansdell 7.30pm \nTHURSDAY\nShip and Royal (Lytham) 8pm \nThe County Hotel Lytham 8.30 \nThe Vic  St Annes on Sea 9pm \nFRIDAY\nThe Waters Edge St Annes on Sea 8pm \nTrevino Lounge Lytham 7pm \n  \n  \n 
URL:https://lythamlifeandstyle.co.uk/event/quiz-nights-in-lytham-st-annes-3-2/2026-02-16/
CATEGORIES:Ansdell,Competitions & Leagues,Lytham,St Annes on Sea
ATTACH;FMTTYPE=image/jpeg:https://lythamlifeandstyle.co.uk/wp-content/uploads/2025/12/new-quiz-night-poster-.jpg
END:VEVENT
BEGIN:VEVENT
DTSTART;VALUE=DATE:20260215
DTEND;VALUE=DATE:20260216
DTSTAMP:20260425T173114
CREATED:20251207T172348Z
LAST-MODIFIED:20251207T172912Z
UID:10007728-1771113600-1771199999@lythamlifeandstyle.co.uk
SUMMARY:Quick Link to where to see Movies
DESCRIPTION:Quick Link to Whats On at the Island Cinema\, the Island\, St Annes On Sea FY8 1LS \n(From their website) \nThe Island Cinema\, located in the picturesque seaside town of Lytham St Annes\, offers a cozy and intimate setting for moviegoers seeking a personal touch. It epitomizes the community cinema experience\, with friendly staff and a homely ambiance that welcomes every visitor like an old friend. The cinema features a selection of the latest releases alongside special screenings and events that cater to all ages and interests. Its commitment to quality and comfort is evident in the plush seating and top-notch visual and audio systems\, ensuring every screening is a pleasure. The Island Cinema is more than just a place to watch movies—it’s a cherished part of the community where memories are made. \nNEW for 2025\, the Chapman Studio \nA New Era of Cinema Returns to Lytham  \nLink to What’s On search page \n(From their website) \nThe Lowther Pavilion Theatre & Gardens is thrilled to announce that its brand-new venue\, The Windmill Performance & Education Centre\, is set to feature a state-of-the-art Digital Cinema Package (DCP) projection system and immersive surround sound . This installation marks the first cinema to open its doors in Lytham since The Palace Cinema closed in the late 1950s. The new DCP technology ensures film lovers can once again enjoy the latest cinema releases in stunning clarity and sound – right in the heart of Lytham.The Windmill Performance & Education Centre\, which is home to the venue’s 164-seat auditorium\, The Chapman Studio\, will launch its state-of-the-art cinema programme including classic films\, arthouse films and live streaming of concerts and National Theatre Performances.
URL:https://lythamlifeandstyle.co.uk/event/quick-link-to-movies/2026-02-15/
CATEGORIES:Art & Culture,Comedy,Community,Enviromental & Nature,Films,Lytham,St Annes on Sea,Theatre
END:VEVENT
BEGIN:VEVENT
DTSTART;TZID=Europe/London:20260209T193000
DTEND;TZID=Europe/London:20260209T223000
DTSTAMP:20260425T173114
CREATED:20251202T184006Z
LAST-MODIFIED:20260417T154411Z
UID:10007794-1770665400-1770676200@lythamlifeandstyle.co.uk
SUMMARY:Quiz Nights in Lytham St Annes
DESCRIPTION:Plenty of pubs means plenty of pub quizzes (this was written in Winter so will be updated when anymore are announced) \nAs with everything\,  details are prone to change\, so suggest you check on the venues Social Media \nMONDAY \nThe Taps Lytham  8pm \nThe Hop Shoppe\, St Annes on Sea 8.30 – Pre book here  https://bit.ly/SpeedQuizBooking \n  \nTUESDAY\nThe Pier Inn\, St Annes on Sea 8pm \nWEDNESDAY\nThe Queens Hotel Lytham 8.30pm \nThe Fairhaven Ansdell 7.30pm \nTHURSDAY\nShip and Royal (Lytham) 8pm \nThe County Hotel Lytham 8.30 \nThe Vic  St Annes on Sea 9pm \nFRIDAY\nThe Waters Edge St Annes on Sea 8pm \nTrevino Lounge Lytham 7pm \n  \n  \n 
URL:https://lythamlifeandstyle.co.uk/event/quiz-nights-in-lytham-st-annes-3-2/2026-02-09/
CATEGORIES:Ansdell,Competitions & Leagues,Lytham,St Annes on Sea
ATTACH;FMTTYPE=image/jpeg:https://lythamlifeandstyle.co.uk/wp-content/uploads/2025/12/new-quiz-night-poster-.jpg
END:VEVENT
BEGIN:VEVENT
DTSTART;VALUE=DATE:20260208
DTEND;VALUE=DATE:20260209
DTSTAMP:20260425T173114
CREATED:20251207T172348Z
LAST-MODIFIED:20251207T172912Z
UID:10007727-1770508800-1770595199@lythamlifeandstyle.co.uk
SUMMARY:Quick Link to where to see Movies
DESCRIPTION:Quick Link to Whats On at the Island Cinema\, the Island\, St Annes On Sea FY8 1LS \n(From their website) \nThe Island Cinema\, located in the picturesque seaside town of Lytham St Annes\, offers a cozy and intimate setting for moviegoers seeking a personal touch. It epitomizes the community cinema experience\, with friendly staff and a homely ambiance that welcomes every visitor like an old friend. The cinema features a selection of the latest releases alongside special screenings and events that cater to all ages and interests. Its commitment to quality and comfort is evident in the plush seating and top-notch visual and audio systems\, ensuring every screening is a pleasure. The Island Cinema is more than just a place to watch movies—it’s a cherished part of the community where memories are made. \nNEW for 2025\, the Chapman Studio \nA New Era of Cinema Returns to Lytham  \nLink to What’s On search page \n(From their website) \nThe Lowther Pavilion Theatre & Gardens is thrilled to announce that its brand-new venue\, The Windmill Performance & Education Centre\, is set to feature a state-of-the-art Digital Cinema Package (DCP) projection system and immersive surround sound . This installation marks the first cinema to open its doors in Lytham since The Palace Cinema closed in the late 1950s. The new DCP technology ensures film lovers can once again enjoy the latest cinema releases in stunning clarity and sound – right in the heart of Lytham.The Windmill Performance & Education Centre\, which is home to the venue’s 164-seat auditorium\, The Chapman Studio\, will launch its state-of-the-art cinema programme including classic films\, arthouse films and live streaming of concerts and National Theatre Performances.
URL:https://lythamlifeandstyle.co.uk/event/quick-link-to-movies/2026-02-08/
CATEGORIES:Art & Culture,Comedy,Community,Enviromental & Nature,Films,Lytham,St Annes on Sea,Theatre
END:VEVENT
BEGIN:VEVENT
DTSTART;TZID=Europe/London:20260202T193000
DTEND;TZID=Europe/London:20260202T223000
DTSTAMP:20260425T173114
CREATED:20251202T184006Z
LAST-MODIFIED:20260417T154411Z
UID:10007793-1770060600-1770071400@lythamlifeandstyle.co.uk
SUMMARY:Quiz Nights in Lytham St Annes
DESCRIPTION:Plenty of pubs means plenty of pub quizzes (this was written in Winter so will be updated when anymore are announced) \nAs with everything\,  details are prone to change\, so suggest you check on the venues Social Media \nMONDAY \nThe Taps Lytham  8pm \nThe Hop Shoppe\, St Annes on Sea 8.30 – Pre book here  https://bit.ly/SpeedQuizBooking \n  \nTUESDAY\nThe Pier Inn\, St Annes on Sea 8pm \nWEDNESDAY\nThe Queens Hotel Lytham 8.30pm \nThe Fairhaven Ansdell 7.30pm \nTHURSDAY\nShip and Royal (Lytham) 8pm \nThe County Hotel Lytham 8.30 \nThe Vic  St Annes on Sea 9pm \nFRIDAY\nThe Waters Edge St Annes on Sea 8pm \nTrevino Lounge Lytham 7pm \n  \n  \n 
URL:https://lythamlifeandstyle.co.uk/event/quiz-nights-in-lytham-st-annes-3-2/2026-02-02/
CATEGORIES:Ansdell,Competitions & Leagues,Lytham,St Annes on Sea
ATTACH;FMTTYPE=image/jpeg:https://lythamlifeandstyle.co.uk/wp-content/uploads/2025/12/new-quiz-night-poster-.jpg
END:VEVENT
BEGIN:VEVENT
DTSTART;VALUE=DATE:20260201
DTEND;VALUE=DATE:20260202
DTSTAMP:20260425T173114
CREATED:20251207T172348Z
LAST-MODIFIED:20251207T172912Z
UID:10007726-1769904000-1769990399@lythamlifeandstyle.co.uk
SUMMARY:Quick Link to where to see Movies
DESCRIPTION:Quick Link to Whats On at the Island Cinema\, the Island\, St Annes On Sea FY8 1LS \n(From their website) \nThe Island Cinema\, located in the picturesque seaside town of Lytham St Annes\, offers a cozy and intimate setting for moviegoers seeking a personal touch. It epitomizes the community cinema experience\, with friendly staff and a homely ambiance that welcomes every visitor like an old friend. The cinema features a selection of the latest releases alongside special screenings and events that cater to all ages and interests. Its commitment to quality and comfort is evident in the plush seating and top-notch visual and audio systems\, ensuring every screening is a pleasure. The Island Cinema is more than just a place to watch movies—it’s a cherished part of the community where memories are made. \nNEW for 2025\, the Chapman Studio \nA New Era of Cinema Returns to Lytham  \nLink to What’s On search page \n(From their website) \nThe Lowther Pavilion Theatre & Gardens is thrilled to announce that its brand-new venue\, The Windmill Performance & Education Centre\, is set to feature a state-of-the-art Digital Cinema Package (DCP) projection system and immersive surround sound . This installation marks the first cinema to open its doors in Lytham since The Palace Cinema closed in the late 1950s. The new DCP technology ensures film lovers can once again enjoy the latest cinema releases in stunning clarity and sound – right in the heart of Lytham.The Windmill Performance & Education Centre\, which is home to the venue’s 164-seat auditorium\, The Chapman Studio\, will launch its state-of-the-art cinema programme including classic films\, arthouse films and live streaming of concerts and National Theatre Performances.
URL:https://lythamlifeandstyle.co.uk/event/quick-link-to-movies/2026-02-01/
CATEGORIES:Art & Culture,Comedy,Community,Enviromental & Nature,Films,Lytham,St Annes on Sea,Theatre
END:VEVENT
BEGIN:VEVENT
DTSTART;TZID=Europe/London:20260126T193000
DTEND;TZID=Europe/London:20260126T223000
DTSTAMP:20260425T173114
CREATED:20251202T184006Z
LAST-MODIFIED:20260417T154411Z
UID:10007792-1769455800-1769466600@lythamlifeandstyle.co.uk
SUMMARY:Quiz Nights in Lytham St Annes
DESCRIPTION:Plenty of pubs means plenty of pub quizzes (this was written in Winter so will be updated when anymore are announced) \nAs with everything\,  details are prone to change\, so suggest you check on the venues Social Media \nMONDAY \nThe Taps Lytham  8pm \nThe Hop Shoppe\, St Annes on Sea 8.30 – Pre book here  https://bit.ly/SpeedQuizBooking \n  \nTUESDAY\nThe Pier Inn\, St Annes on Sea 8pm \nWEDNESDAY\nThe Queens Hotel Lytham 8.30pm \nThe Fairhaven Ansdell 7.30pm \nTHURSDAY\nShip and Royal (Lytham) 8pm \nThe County Hotel Lytham 8.30 \nThe Vic  St Annes on Sea 9pm \nFRIDAY\nThe Waters Edge St Annes on Sea 8pm \nTrevino Lounge Lytham 7pm \n  \n  \n 
URL:https://lythamlifeandstyle.co.uk/event/quiz-nights-in-lytham-st-annes-3-2/2026-01-26/
CATEGORIES:Ansdell,Competitions & Leagues,Lytham,St Annes on Sea
ATTACH;FMTTYPE=image/jpeg:https://lythamlifeandstyle.co.uk/wp-content/uploads/2025/12/new-quiz-night-poster-.jpg
END:VEVENT
BEGIN:VEVENT
DTSTART;VALUE=DATE:20260125
DTEND;VALUE=DATE:20260126
DTSTAMP:20260425T173114
CREATED:20251207T172348Z
LAST-MODIFIED:20251207T172912Z
UID:10007725-1769299200-1769385599@lythamlifeandstyle.co.uk
SUMMARY:Quick Link to where to see Movies
DESCRIPTION:Quick Link to Whats On at the Island Cinema\, the Island\, St Annes On Sea FY8 1LS \n(From their website) \nThe Island Cinema\, located in the picturesque seaside town of Lytham St Annes\, offers a cozy and intimate setting for moviegoers seeking a personal touch. It epitomizes the community cinema experience\, with friendly staff and a homely ambiance that welcomes every visitor like an old friend. The cinema features a selection of the latest releases alongside special screenings and events that cater to all ages and interests. Its commitment to quality and comfort is evident in the plush seating and top-notch visual and audio systems\, ensuring every screening is a pleasure. The Island Cinema is more than just a place to watch movies—it’s a cherished part of the community where memories are made. \nNEW for 2025\, the Chapman Studio \nA New Era of Cinema Returns to Lytham  \nLink to What’s On search page \n(From their website) \nThe Lowther Pavilion Theatre & Gardens is thrilled to announce that its brand-new venue\, The Windmill Performance & Education Centre\, is set to feature a state-of-the-art Digital Cinema Package (DCP) projection system and immersive surround sound . This installation marks the first cinema to open its doors in Lytham since The Palace Cinema closed in the late 1950s. The new DCP technology ensures film lovers can once again enjoy the latest cinema releases in stunning clarity and sound – right in the heart of Lytham.The Windmill Performance & Education Centre\, which is home to the venue’s 164-seat auditorium\, The Chapman Studio\, will launch its state-of-the-art cinema programme including classic films\, arthouse films and live streaming of concerts and National Theatre Performances.
URL:https://lythamlifeandstyle.co.uk/event/quick-link-to-movies/2026-01-25/
CATEGORIES:Art & Culture,Comedy,Community,Enviromental & Nature,Films,Lytham,St Annes on Sea,Theatre
END:VEVENT
END:VCALENDAR