BEGIN:VCALENDAR
VERSION:2.0
PRODID:-//Lytham Life &amp; Style - ECPv6.15.19//NONSGML v1.0//EN
CALSCALE:GREGORIAN
METHOD:PUBLISH
X-WR-CALNAME:Lytham Life &amp; Style
X-ORIGINAL-URL:https://lythamlifeandstyle.co.uk
X-WR-CALDESC:Events for Lytham Life &amp; Style
REFRESH-INTERVAL;VALUE=DURATION:PT1H
X-Robots-Tag:noindex
X-PUBLISHED-TTL:PT1H
BEGIN:VTIMEZONE
TZID:Europe/London
BEGIN:DAYLIGHT
TZOFFSETFROM:+0000
TZOFFSETTO:+0100
TZNAME:BST
DTSTART:20250330T010000
END:DAYLIGHT
BEGIN:STANDARD
TZOFFSETFROM:+0100
TZOFFSETTO:+0000
TZNAME:GMT
DTSTART:20251026T010000
END:STANDARD
BEGIN:DAYLIGHT
TZOFFSETFROM:+0000
TZOFFSETTO:+0100
TZNAME:BST
DTSTART:20260329T010000
END:DAYLIGHT
BEGIN:STANDARD
TZOFFSETFROM:+0100
TZOFFSETTO:+0000
TZNAME:GMT
DTSTART:20261025T010000
END:STANDARD
BEGIN:DAYLIGHT
TZOFFSETFROM:+0000
TZOFFSETTO:+0100
TZNAME:BST
DTSTART:20270328T010000
END:DAYLIGHT
BEGIN:STANDARD
TZOFFSETFROM:+0100
TZOFFSETTO:+0000
TZNAME:GMT
DTSTART:20271031T010000
END:STANDARD
END:VTIMEZONE
BEGIN:VEVENT
DTSTART;TZID=Europe/London:20260416T183000
DTEND;TZID=Europe/London:20260416T210000
DTSTAMP:20260425T175657
CREATED:20260219T231931Z
LAST-MODIFIED:20260413T224451Z
UID:10007922-1776364200-1776373200@lythamlifeandstyle.co.uk
SUMMARY:LSA Classic Association Lecture
DESCRIPTION:From the LSA Classical Association website  \nThe Lytham St Annes Classical Association\, the UK’s largest branch of the Classical Association. They organise monthly lectures\, from September to April\, exploring the history\, art\, culture\, language and literature of ancient Rome and Greece. Membership\, costing just £12 a year and £5 for students\, gives you free admission to the seven lectures as well as other annual events. You can find out more about joining them here. \nLectures are held at AKS Lytham\, Clifton Drive South\, FY8 1DT on Thursday evenings. Doors open at 6.15pm for refreshments and a chance to meet the lecturer\, and talks begin at 7pm.  After a short question and answer session\, meetings normally finish by 8:30pm. They are a really friendly branch and can always guarantee visitors a warm welcome\, a great lecture and some lovely homemade cake! \nThere are two published lectures\, with more to come \n12 March 2026 \n“Stories of the Gods: the Epics of Byzantium” \nProfessor Tim Whitmarsh\, University of Cambridge \n16 April 2026 \n“Rome\, Monarchs and Monuments” \nDr Paul Roberts OBE \n  \n  \nDisclaimer \nI pull event info from across local social media and websites—basically herding cats across the internet. Most of the time it’s accurate. Occasionally\, however\, dates shift\, venues change plans\, or events vanish into the ether. If I make a mistake\, it’s not sabotage—it’s the chaos of live events being… live. So before you do your hair\, book a babysitter\, or pre-celebrate\, please double-check the details directly with the venue or organiser. Trust\, but verify
URL:https://lythamlifeandstyle.co.uk/event/lsa-classic-association-lecture/2026-04-16/
LOCATION:AKS School\, Clifton Drive South\, Lytham St Annes\, Lancashire\, FY8 1DT
CATEGORIES:Ansdell,Art & Culture,Educational,History,Lytham,St Annes on Sea,talks
ATTACH;FMTTYPE=image/jpeg:https://lythamlifeandstyle.co.uk/wp-content/uploads/2026/02/lytham-ST-Annes-Classica-Association-Lecture-April-16th-whats-on-in-Lytham-St-Annes.jpg
END:VEVENT
BEGIN:VEVENT
DTSTART;TZID=Europe/London:20260416T193000
DTEND;TZID=Europe/London:20260416T230000
DTSTAMP:20260425T175657
CREATED:20260216T163235Z
LAST-MODIFIED:20260216T181042Z
UID:10007897-1776367800-1776380400@lythamlifeandstyle.co.uk
SUMMARY:Weekly Jam Night and the Third Thursday Music Club
DESCRIPTION:🎶  All Musicians Welcome 🎶 \nReady to plug in and play? Join Urban Arts Studio for an open jam night where creativity takes the stage. Bring your instrument\, your voice\, or just your love of live music. Whether you’re a seasoned player or just getting comfortable under the lights\, this is your space to connect\, collaborate\, and make some noise. \nIf you love spontaneous moments.\, spectators welcome—enjoy the energy of live\, unrehearsed music in its rawest form. \nSTOP PRESS\nNew introduction is the Third Thursday Music Club will be hosted by Phil Barrett supported by a band of top session musicians and will be more of a Rock Jam Night. For medical reasons Lol Goodman is unavailable for the next 2 months or so\, and Phil\, the Keyboard player and guitarist in the Lol Goodman Band is to take over the Jam Nights. Pop along and JAM with Phil and the boys. Phil is a much sought after Session musician with an international career that has earned him 3 Platinum and 7 Gold Disc Awards. \nThe first one is 19th February 2026 \n \nDisclaimer \nI pull event info from across local social media and websites—basically herding cats across the internet. Most of the time it’s accurate. Occasionally\, however\, dates shift\, venues change plans\, or events vanish into the ether. If I make a mistake\, it’s not sabotage—it’s the chaos of live events being… live. So before you do your hair\, book a babysitter\, or pre-celebrate\, please double-check the details directly with the venue or organiser. Trust\, but verify
URL:https://lythamlifeandstyle.co.uk/event/weekly-jam-night/2026-04-16/
LOCATION:Urban Arts Studio\, Back St Ann'es Road West\, Lancashire\, FY8 1QR
CATEGORIES:Entertainment,Hobbies,Music Festivals, Concerts & Shows,St Annes on Sea
ATTACH;FMTTYPE=image/jpeg:https://lythamlifeandstyle.co.uk/wp-content/uploads/2026/02/jammin.jpg
END:VEVENT
BEGIN:VEVENT
DTSTART;VALUE=DATE:20260417
DTEND;VALUE=DATE:20260418
DTSTAMP:20260425T175657
CREATED:20260415T220430Z
LAST-MODIFIED:20260415T221147Z
UID:10007737-1776384000-1776470399@lythamlifeandstyle.co.uk
SUMMARY:Quick Link to What's On at the Movies
DESCRIPTION:Quick Link to Whats On at the Island Cinema\, the Island\, St Annes On Sea FY8 1LS \n(From their website) \nThe Island Cinema\, located in the picturesque seaside town of Lytham St Annes\, offers a cozy and intimate setting for moviegoers seeking a personal touch. It epitomizes the community cinema experience\, with friendly staff and a homely ambiance that welcomes every visitor like an old friend. The cinema features a selection of the latest releases alongside special screenings and events that cater to all ages and interests. Its commitment to quality and comfort is evident in the plush seating and top-notch visual and audio systems\, ensuring every screening is a pleasure. The Island Cinema is more than just a place to watch movies—it’s a cherished part of the community where memories are made. \nThere are also regular movies at The Lowther Pavilion Theatre & Gardens \nNEW in 2025\, the Chapman Studio \nA New Era of Cinema Returns to Lytham  \nLink to What’s On at Lowther search page  \n(From their website) \nThe Lowther Pavilion Theatre & Gardens is thrilled to announce that its brand-new venue\, The Windmill Performance & Education Centre\, is set to feature a state-of-the-art Digital Cinema Package (DCP) projection system and immersive surround sound . This installation marks the first cinema to open its doors in Lytham since The Palace Cinema closed in the late 1950s. The new DCP technology ensures film lovers can once again enjoy the latest cinema releases in stunning clarity and sound – right in the heart of Lytham.The Windmill Performance & Education Centre\, which is home to the venue’s 164-seat auditorium\, The Chapman Studio\, will launch its state-of-the-art cinema programme including classic films\, arthouse films and live streaming of concerts and National Theatre Performances.
URL:https://lythamlifeandstyle.co.uk/event/quick-link-to-movies-2/2026-04-17/
CATEGORIES:Art & Culture,Comedy,Community,Enviromental & Nature,Films,Lytham,St Annes on Sea,Theatre
ATTACH;FMTTYPE=image/png:https://lythamlifeandstyle.co.uk/wp-content/uploads/2025/12/Whats-on-at-the-Movies-2-1.png
END:VEVENT
BEGIN:VEVENT
DTSTART;TZID=Europe/London:20260418T180000
DTEND;TZID=Europe/London:20260418T233000
DTSTAMP:20260425T175657
CREATED:20251205T174554Z
LAST-MODIFIED:20260418T160052Z
UID:10007613-1776535200-1776555000@lythamlifeandstyle.co.uk
SUMMARY:Live Music/Karaoke & DJ Sets THIS WEEKEND Saturday 18th April  2026
DESCRIPTION:All on Poster \nDisclaimer \nI pull event info from across local social media and websites—basically herding cats across the internet. Most of the time it’s accurate. Occasionally\, however\, dates shift\, venues change plans\, or events vanish into the ether. If I make a mistake\, it’s not sabotage—it’s the chaos of live events being… live. So before you do your hair\, book a babysitter\, or pre-celebrate\, please double-check the details directly with the venue or organiser. Trust\, but verify
URL:https://lythamlifeandstyle.co.uk/event/live-music-karaoke-dj-sets-this-weekend-19th-21st-december/
CATEGORIES:Entertainment,live music,Lytham,St Annes on Sea
ATTACH;FMTTYPE=image/jpeg:https://lythamlifeandstyle.co.uk/wp-content/uploads/2025/12/Sat-18th-April-LIVE-1080-x-1080-px-1.jpg
END:VEVENT
BEGIN:VEVENT
DTSTART;TZID=Europe/London:20260419T140000
DTEND;TZID=Europe/London:20260419T220000
DTSTAMP:20260425T175657
CREATED:20251206T144435Z
LAST-MODIFIED:20260418T160642Z
UID:10007614-1776607200-1776636000@lythamlifeandstyle.co.uk
SUMMARY:Live Music/Karaoke & DJ Sets THIS WEEKEND Sunday 19th April 2026
DESCRIPTION:All on poster \nDisclaimer \nI pull event info from across local social media and websites—basically herding cats across the internet. Most of the time it’s accurate. Occasionally\, however\, dates shift\, venues change plans\, or events vanish into the ether. If I make a mistake\, it’s not sabotage—it’s the chaos of live events being… live. So before you do your hair\, book a babysitter\, or pre-celebrate\, please double-check the details directly with the venue or organiser. Trust\, but verify
URL:https://lythamlifeandstyle.co.uk/event/live-music-karaoke-dj-sets-this-weekend-sunday-21st-december-2025/
CATEGORIES:Entertainment,live music,Lytham,St Annes on Sea
ATTACH;FMTTYPE=image/jpeg:https://lythamlifeandstyle.co.uk/wp-content/uploads/2025/12/Sunday-19th-April-LIVE-1080-x-1080-px.jpg
END:VEVENT
BEGIN:VEVENT
DTSTART;TZID=Europe/London:20260420T193000
DTEND;TZID=Europe/London:20260420T223000
DTSTAMP:20260425T175657
CREATED:20251202T184006Z
LAST-MODIFIED:20260417T154411Z
UID:10007804-1776713400-1776724200@lythamlifeandstyle.co.uk
SUMMARY:Quiz Nights in Lytham St Annes
DESCRIPTION:Plenty of pubs means plenty of pub quizzes (this was written in Winter so will be updated when anymore are announced) \nAs with everything\,  details are prone to change\, so suggest you check on the venues Social Media \nMONDAY \nThe Taps Lytham  8pm \nThe Hop Shoppe\, St Annes on Sea 8.30 – Pre book here  https://bit.ly/SpeedQuizBooking \n  \nTUESDAY\nThe Pier Inn\, St Annes on Sea 8pm \nWEDNESDAY\nThe Queens Hotel Lytham 8.30pm \nThe Fairhaven Ansdell 7.30pm \nTHURSDAY\nShip and Royal (Lytham) 8pm \nThe County Hotel Lytham 8.30 \nThe Vic  St Annes on Sea 9pm \nFRIDAY\nThe Waters Edge St Annes on Sea 8pm \nTrevino Lounge Lytham 7pm \n  \n  \n 
URL:https://lythamlifeandstyle.co.uk/event/quiz-nights-in-lytham-st-annes-3-2/2026-04-20/
CATEGORIES:Ansdell,Competitions & Leagues,Lytham,St Annes on Sea
ATTACH;FMTTYPE=image/jpeg:https://lythamlifeandstyle.co.uk/wp-content/uploads/2025/12/new-quiz-night-poster-.jpg
END:VEVENT
BEGIN:VEVENT
DTSTART;TZID=Europe/London:20260421T200000
DTEND;TZID=Europe/London:20260421T230000
DTSTAMP:20260425T175657
CREATED:20260310T182620Z
LAST-MODIFIED:20260407T122450Z
UID:10008421-1776801600-1776812400@lythamlifeandstyle.co.uk
SUMMARY:Weekly Musical Allsorts Open Mic
DESCRIPTION:Open Mic night held every Tuesday at The St Anne’s Ex Service Club. EVERYONE is welcome. Any style\, any instrument\, any ability
URL:https://lythamlifeandstyle.co.uk/event/weekly-musical-allsorts-open-mic/2026-04-21/
LOCATION:St Annes Ex ServiceMans Club\, 22 Alexandra Road\,\, St Annes\, c\, FY8 1YE
CATEGORIES:Community,Entertainment,live music,Open Mic,St Annes on Sea
ATTACH;FMTTYPE=image/jpeg:https://lythamlifeandstyle.co.uk/wp-content/uploads/2026/03/Open-Mic-St-Annes-Ex-Service-Club-.jpg
END:VEVENT
BEGIN:VEVENT
DTSTART;TZID=Europe/London:20260423T193000
DTEND;TZID=Europe/London:20260423T230000
DTSTAMP:20260425T175657
CREATED:20260216T163235Z
LAST-MODIFIED:20260216T181042Z
UID:10007898-1776972600-1776985200@lythamlifeandstyle.co.uk
SUMMARY:Weekly Jam Night and the Third Thursday Music Club
DESCRIPTION:🎶  All Musicians Welcome 🎶 \nReady to plug in and play? Join Urban Arts Studio for an open jam night where creativity takes the stage. Bring your instrument\, your voice\, or just your love of live music. Whether you’re a seasoned player or just getting comfortable under the lights\, this is your space to connect\, collaborate\, and make some noise. \nIf you love spontaneous moments.\, spectators welcome—enjoy the energy of live\, unrehearsed music in its rawest form. \nSTOP PRESS\nNew introduction is the Third Thursday Music Club will be hosted by Phil Barrett supported by a band of top session musicians and will be more of a Rock Jam Night. For medical reasons Lol Goodman is unavailable for the next 2 months or so\, and Phil\, the Keyboard player and guitarist in the Lol Goodman Band is to take over the Jam Nights. Pop along and JAM with Phil and the boys. Phil is a much sought after Session musician with an international career that has earned him 3 Platinum and 7 Gold Disc Awards. \nThe first one is 19th February 2026 \n \nDisclaimer \nI pull event info from across local social media and websites—basically herding cats across the internet. Most of the time it’s accurate. Occasionally\, however\, dates shift\, venues change plans\, or events vanish into the ether. If I make a mistake\, it’s not sabotage—it’s the chaos of live events being… live. So before you do your hair\, book a babysitter\, or pre-celebrate\, please double-check the details directly with the venue or organiser. Trust\, but verify
URL:https://lythamlifeandstyle.co.uk/event/weekly-jam-night/2026-04-23/
LOCATION:Urban Arts Studio\, Back St Ann'es Road West\, Lancashire\, FY8 1QR
CATEGORIES:Entertainment,Hobbies,Music Festivals, Concerts & Shows,St Annes on Sea
ATTACH;FMTTYPE=image/jpeg:https://lythamlifeandstyle.co.uk/wp-content/uploads/2026/02/jammin.jpg
END:VEVENT
BEGIN:VEVENT
DTSTART;VALUE=DATE:20260424
DTEND;VALUE=DATE:20260425
DTSTAMP:20260425T175657
CREATED:20260415T220430Z
LAST-MODIFIED:20260415T221147Z
UID:10009435-1776988800-1777075199@lythamlifeandstyle.co.uk
SUMMARY:Quick Link to What's On at the Movies
DESCRIPTION:Quick Link to Whats On at the Island Cinema\, the Island\, St Annes On Sea FY8 1LS \n(From their website) \nThe Island Cinema\, located in the picturesque seaside town of Lytham St Annes\, offers a cozy and intimate setting for moviegoers seeking a personal touch. It epitomizes the community cinema experience\, with friendly staff and a homely ambiance that welcomes every visitor like an old friend. The cinema features a selection of the latest releases alongside special screenings and events that cater to all ages and interests. Its commitment to quality and comfort is evident in the plush seating and top-notch visual and audio systems\, ensuring every screening is a pleasure. The Island Cinema is more than just a place to watch movies—it’s a cherished part of the community where memories are made. \nThere are also regular movies at The Lowther Pavilion Theatre & Gardens \nNEW in 2025\, the Chapman Studio \nA New Era of Cinema Returns to Lytham  \nLink to What’s On at Lowther search page  \n(From their website) \nThe Lowther Pavilion Theatre & Gardens is thrilled to announce that its brand-new venue\, The Windmill Performance & Education Centre\, is set to feature a state-of-the-art Digital Cinema Package (DCP) projection system and immersive surround sound . This installation marks the first cinema to open its doors in Lytham since The Palace Cinema closed in the late 1950s. The new DCP technology ensures film lovers can once again enjoy the latest cinema releases in stunning clarity and sound – right in the heart of Lytham.The Windmill Performance & Education Centre\, which is home to the venue’s 164-seat auditorium\, The Chapman Studio\, will launch its state-of-the-art cinema programme including classic films\, arthouse films and live streaming of concerts and National Theatre Performances.
URL:https://lythamlifeandstyle.co.uk/event/quick-link-to-movies-2/2026-04-24/
CATEGORIES:Art & Culture,Comedy,Community,Enviromental & Nature,Films,Lytham,St Annes on Sea,Theatre
ATTACH;FMTTYPE=image/png:https://lythamlifeandstyle.co.uk/wp-content/uploads/2025/12/Whats-on-at-the-Movies-2-1.png
END:VEVENT
BEGIN:VEVENT
DTSTART;TZID=Europe/London:20260424T190000
DTEND;TZID=Europe/London:20260424T233000
DTSTAMP:20260425T175657
CREATED:20251212T180419Z
LAST-MODIFIED:20260424T152259Z
UID:10007784-1777057200-1777073400@lythamlifeandstyle.co.uk
SUMMARY:Live Music/Karaoke & DJ Sets THIS WEEKEND Friday 24th April 2026
DESCRIPTION:All info on poster \n  \nDisclaimer \nI pull event info from across local social media and websites—basically herding cats across the internet. Most of the time it’s accurate. Occasionally\, however\, dates shift\, venues change plans\, or events vanish into the ether. If I make a mistake\, it’s not sabotage—it’s the chaos of live events being… live. So before you do your hair\, book a babysitter\, or pre-celebrate\, please double-check the details directly with the venue or organiser. Trust\, but verify
URL:https://lythamlifeandstyle.co.uk/event/live-music-karaoke-dj-sets-this-weekend-friday-12th-december-2025/
CATEGORIES:Entertainment,live music,Lytham,St Annes on Sea
ATTACH;FMTTYPE=image/jpeg:https://lythamlifeandstyle.co.uk/wp-content/uploads/2025/12/Friday-24-th-April-Live-1080-x-1080-px.jpg
END:VEVENT
BEGIN:VEVENT
DTSTART;TZID=Europe/London:20260425T090000
DTEND;TZID=Europe/London:20260425T150000
DTSTAMP:20260425T175657
CREATED:20260425T095552Z
LAST-MODIFIED:20260425T095552Z
UID:10009552-1777107600-1777129200@lythamlifeandstyle.co.uk
SUMMARY:Antique and Collectors Fair
DESCRIPTION:All Details on the Poster
URL:https://lythamlifeandstyle.co.uk/event/antique-and-collectors-fair/
LOCATION:The Drive Methodist Church\, St Annes On Sea\, FY8 1LH
CATEGORIES:Antiques,free,Shopping,St Annes on Sea
ATTACH;FMTTYPE=image/jpeg:https://lythamlifeandstyle.co.uk/wp-content/uploads/2026/04/April-25-th-Antique-and-Collectors-Fair-St-Annes.jpg
END:VEVENT
END:VCALENDAR